BEGIN:VCALENDAR
VERSION:2.0
PRODID:-//Ayuntamiento de Plasencia de Jalón - ECPv6.15.20//NONSGML v1.0//EN
CALSCALE:GREGORIAN
METHOD:PUBLISH
X-WR-CALNAME:Ayuntamiento de Plasencia de Jalón
X-ORIGINAL-URL:https://plasenciadejalon.es
X-WR-CALDESC:Eventos para Ayuntamiento de Plasencia de Jalón
REFRESH-INTERVAL;VALUE=DURATION:PT1H
X-Robots-Tag:noindex
X-PUBLISHED-TTL:PT1H
BEGIN:VTIMEZONE
TZID:UTC
BEGIN:STANDARD
TZOFFSETFROM:+0000
TZOFFSETTO:+0000
TZNAME:UTC
DTSTART:20220101T000000
END:STANDARD
END:VTIMEZONE
BEGIN:VEVENT
DTSTART;TZID=UTC:20230507T100000
DTEND;TZID=UTC:20230507T140000
DTSTAMP:20260419T140700
CREATED:20230426T131957Z
LAST-MODIFIED:20230426T131957Z
UID:2443-1683453600-1683468000@plasenciadejalon.es
SUMMARY:Campeonato Tiro de Barra Aragonesa
DESCRIPTION:
URL:https://plasenciadejalon.es/event/campeonato-tiro-de-barra-aragonesa/
CATEGORIES:Concurso,Cultura,Tradiciones
ORGANIZER;CN="Ayuntamiento de Plasencia de Jal%C3%B3n":MAILTO:plasencia@dpz.es
END:VEVENT
END:VCALENDAR